BEGIN:VCALENDAR
PRODID:Solar Promotion International GmbH
CALSCALE:GREGORIAN
BEGIN:VEVENT
DTSTAMP:20260424T075706Z
DTSTART:20260326T160000
DTEND:20260326T170000
SUMMARY:Green Hydrogen & PV in Brazil: 24/7 Renewable Energy Opportunities in the Northeast
TZID:Europe/Berlin
LAST-MODIFIED:20260331T084554Z
DESCRIPTION:Explore how Brazil advances toward 24/7 clean energy by combining solar power and green hydrogen.
SEQUENCE:1777017426
URL:https://www.intersolar-brasil.com/webinars/green-hydrogen-and-pv-in-brazil
LOCATION:The smarter E South America\, 
UID:651864f2-697f-4026-90b3-a9951974ca49
END:VEVENT
END:VCALENDAR
